BEGIN:VCALENDAR
VERSION:2.0
PRODID:-//wp-events-plugin.com//7.2.3.1//EN
BEGIN:VEVENT
UID:46@colonialhd.com
DTSTART;TZID=Africa/Abidjan:20260207T120000
DTEND;TZID=Africa/Abidjan:20260207T140000
DTSTAMP:20251211T165841Z
URL:https://colonialhd.com/event/great-bowls-of-fire-chili-cook-off-2/
SUMMARY:GREAT BOWLS OF FIRE CHILI COOK-OFF
DESCRIPTION:Get ready for the most flavorful event of 2026! Colonial Harley
 -Davidson's Great Bowls of Fire Chili Cook-Off is coming in HOT on Saturda
 y\, February 7th!\nFire up your taste buds and help us decide who has the 
 best chili recipe!\nFREE ENTRY | FREE TASTING | PEOPLE'S CHOICE JUDGINGHOT
  PRIZES FOR 1ST\, 2ND\, &amp\; 3RD PLACEFree chili tasting starts @12pm -U
 ntil it's GONE!\nThink you have the best chili? Let's put it to the test!T
 EXT: 804-861-4700 to register your chili &amp\; get more details!
ATTACH;FMTTYPE=image/jpeg:https://colonialhd.com/wp-content/uploads/2025/1
 2/2022-Horizontal-Flyers-2025-12-11T115718.971.png
LOCATION:Colonial Harley-Davidson®\, 1701 Temple Parkway\, Prince George\,
  VA\, 23875\, 804.861.4700\, 
X-APPLE-STRUCTURED-LOCATION;VALUE=URI;X-ADDRESS=1701 Temple Parkway\, Princ
 e George\, VA\, 23875\, 804.861.4700\, ;X-APPLE-RADIUS=100;X-TITLE=Colonia
 l Harley-Davidson®:geo:0,0
END:VEVENT
BEGIN:VTIMEZONE
TZID:Africa/Abidjan
X-LIC-LOCATION:Africa/Abidjan
BEGIN:STANDARD
DTSTART:20250207T120000
TZOFFSETFROM:+0000
TZOFFSETTO:+0000
TZNAME:GMT
END:STANDARD
END:VTIMEZONE
END:VCALENDAR