BEGIN:VCALENDAR
VERSION:2.0
PRODID:-//wp-events-plugin.com//7.2.3.1//EN
BEGIN:VEVENT
UID:25@colonialhd.com
DTSTART:20250322T160000Z
DTEND:20250322T210000Z
DTSTAMP:20250723T203619Z
URL:https://colonialhd.com/event/brunswick-stew-fundraiser/
SUMMARY:Brunswick Stew Fundraiser
DESCRIPTION:Brunswick Stew Fundraiser\nBrunswick Stew Fundraiser hosted by 
 the SCVMC &amp\; The Stew Brothers!\nBrunswick stew will be made on-site! 
 Stew sales start at 11am - until it's GONE! First come\, first serve!$5 / 
 Bowl | $10 / Quart\nProceeds benefit the Ronald McDonald House Charities o
 f Richmond\nSOFTAIL SATURDAY:\n\n
ATTACH;FMTTYPE=image/jpeg:https://colonialhd.com/wp-content/uploads/2025/0
 2/March-22-2025.png
LOCATION:Colonial Harley-Davidson®\, 1701 Temple Parkway\, Prince George\,
  VA\, 23875\, 804.861.4700\, 
X-APPLE-STRUCTURED-LOCATION;VALUE=URI;X-ADDRESS=1701 Temple Parkway\, Princ
 e George\, VA\, 23875\, 804.861.4700\, ;X-APPLE-RADIUS=100;X-TITLE=Colonia
 l Harley-Davidson®:geo:0,0
END:VEVENT
END:VCALENDAR